BEGIN:VCALENDAR
VERSION:2.0
PRODID:-//Collectif Archytas - ECPv6.0.13.1//NONSGML v1.0//EN
CALSCALE:GREGORIAN
METHOD:PUBLISH
X-ORIGINAL-URL:https://www.collectif-archytas.com
X-WR-CALDESC:évènements pour Collectif Archytas
REFRESH-INTERVAL;VALUE=DURATION:PT1H
X-Robots-Tag:noindex
X-PUBLISHED-TTL:PT1H
BEGIN:VTIMEZONE
TZID:Europe/Paris
BEGIN:DAYLIGHT
TZOFFSETFROM:+0100
TZOFFSETTO:+0200
TZNAME:CEST
DTSTART:20250330T010000
END:DAYLIGHT
BEGIN:STANDARD
TZOFFSETFROM:+0200
TZOFFSETTO:+0100
TZNAME:CET
DTSTART:20251026T010000
END:STANDARD
END:VTIMEZONE
BEGIN:VEVENT
DTSTART;TZID=Europe/Paris:20250702T200000
DTEND;TZID=Europe/Paris:20250702T213000
DTSTAMP:20260421T200443
CREATED:20250623T140803Z
LAST-MODIFIED:20250623T145805Z
UID:1746-1751486400-1751491800@www.collectif-archytas.com
SUMMARY:Concert au Temple • Peyrolles
DESCRIPTION:Concert du Collectif Archytas\nTEMPLE DE PEYROLLES • 20h00\nAccueil-Buvette à partir de 19h00 sur le parvis\nPièces et Improvisations de :\nFrédéric Anthouard • Vincent Concaret • Marie Denizot\nBernard Dürr • Pierre Lassailly • Anne Piffard\nMatthieu Vilcot • Benoit Virole
URL:https://www.collectif-archytas.com/evenement/concert-au-temple-peyrolles/
LOCATION:Espace MUMIX\, Peyrolles\, 30124\, France
CATEGORIES:Concert collectif,Mumix
ATTACH;FMTTYPE=image/jpeg:https://www.collectif-archytas.com/wp-content/uploads/2025/06/slide_2_juillet_2025-2.jpg
END:VEVENT
END:VCALENDAR