BEGIN:VCALENDAR
VERSION:2.0
PRODID:-//Collectif Archytas - ECPv6.0.13.1//NONSGML v1.0//EN
CALSCALE:GREGORIAN
METHOD:PUBLISH
X-WR-CALNAME:Collectif Archytas
X-ORIGINAL-URL:https://www.collectif-archytas.com
X-WR-CALDESC:évènements pour Collectif Archytas
REFRESH-INTERVAL;VALUE=DURATION:PT1H
X-Robots-Tag:noindex
X-PUBLISHED-TTL:PT1H
BEGIN:VTIMEZONE
TZID:Europe/Paris
BEGIN:DAYLIGHT
TZOFFSETFROM:+0100
TZOFFSETTO:+0200
TZNAME:CEST
DTSTART:20240331T010000
END:DAYLIGHT
BEGIN:STANDARD
TZOFFSETFROM:+0200
TZOFFSETTO:+0100
TZNAME:CET
DTSTART:20241027T010000
END:STANDARD
END:VTIMEZONE
BEGIN:VEVENT
DTSTART;TZID=Europe/Paris:20240716T203000
DTEND;TZID=Europe/Paris:20240906T203000
DTSTAMP:20260420T183418
CREATED:20240627T111425Z
LAST-MODIFIED:20240627T112237Z
UID:1707-1721161800-1725654600@www.collectif-archytas.com
SUMMARY:Concerts de Frédéric Anthouard
DESCRIPTION:Frédéric Anthouard : guitare classique\, guitare électrique\, ordinateur\, électronique et objets divers\nParcours à travers le répertoire de la guitare classique de la fin du baroque à la musique contemporaine entrecoupé d’improvisations sonores à base de guitare électrique\, de synthétiseur et d’objets variés (musique proche de l’électroacoustique) influencé par le travail du guitariste/compositeur/improvisateur Fred Frith. \n  \n► Le 16 juillet – 20H30 au Labo Masméjean\, Le-Pont-de-Montvert\n► Le 2 août – 19H à l’église St-Martin-de-Corconac\n► Le 9 août – 18H à St-Hilaire-de-Lavit :\nMichel Blanc (batterie) et Frédéric Anthouard(guitare/électroac) : « Métamorphose pour l’éternel été »\n► Le 17 août – 20h30 au Temple de St-Germain-de-Calberte\n► Le 6 septembre – (horaire à définir) au temple de St-Martin-de-Lansuscle\n 
URL:https://www.collectif-archytas.com/evenement/concerts-de-frederic-anthouard/
CATEGORIES:Dates
END:VEVENT
END:VCALENDAR