BEGIN:VCALENDAR
VERSION:2.0
PRODID:-//Collectif Archytas - ECPv6.0.13.1//NONSGML v1.0//EN
CALSCALE:GREGORIAN
METHOD:PUBLISH
X-WR-CALNAME:Collectif Archytas
X-ORIGINAL-URL:https://www.collectif-archytas.com
X-WR-CALDESC:évènements pour Collectif Archytas
REFRESH-INTERVAL;VALUE=DURATION:PT1H
X-Robots-Tag:noindex
X-PUBLISHED-TTL:PT1H
BEGIN:VTIMEZONE
TZID:Europe/Paris
BEGIN:DAYLIGHT
TZOFFSETFROM:+0100
TZOFFSETTO:+0200
TZNAME:CEST
DTSTART:20250330T010000
END:DAYLIGHT
BEGIN:STANDARD
TZOFFSETFROM:+0200
TZOFFSETTO:+0100
TZNAME:CET
DTSTART:20251026T010000
END:STANDARD
END:VTIMEZONE
BEGIN:VEVENT
DTSTART;TZID=Europe/Paris:20250826T203000
DTEND;TZID=Europe/Paris:20250826T220000
DTSTAMP:20260419T212813
CREATED:20250630T141202Z
LAST-MODIFIED:20250825T075235Z
UID:1773-1756240200-1756245600@www.collectif-archytas.com
SUMMARY:Concert Archytas MANIE • Fête de l'Alto
DESCRIPTION:Concert mixte Acousmatique et Instrumental spatialisé\nMardi 26 Août 2025 à 20h30 • La Filature du Pont de Fer • Lasalle\nTarifs: 10€\, 5€\, gratuit moins de 15 ans\nLe Collectif Archytas\, créé en 2018 par Bernard Dürr et Frédéric Anthouard\, regroupe à présent des compositeurs\,\nvivant principalement en Cévennes\, de musique électroacoustique particulièrement intéressés par la diffusion\nspatialisée de ces musiques et les recherches sonores\, notamment en dehors du tempérament égal. \nLe Collectif organise des concerts dans les Cévennes\, principalement dans leur espace dédié (le Mumix) au temple\nde Peyrolles. Il participe cet été au festival CHAHUT! Musiques en Cévennes en Lozère. \nPour cette collaboration avec Viv’Alto\, sous la direction artistique de Pierre-Henri Xuereb\, deux points forts ont été imaginés de conserve : la conférence-débat de Bernard Dürr et Benoît Virole sur Pierre Schaeffer le 21 août\, et le concert du 26 août qui permettra de mettre en valeur la musique spatialisée. \nProgramme\nPremière partie – Viv’Alto : Sulla Ciacona\, Trio de Philippe Manoury et « Glissements temporels »\, trio de Frédéric\nAnthouard et « Ave Maria » de Bernard Dürr.\nDeuxième partie – Archytas : avec « Chut ! » de Marie Denizot\, « (Je) d’heures immortelles » de Frédéric Anthouard et Marthe Omé\,\n« Furie V » de Vincent Concaret.
URL:https://www.collectif-archytas.com/evenement/archytas-manie/
LOCATION:La Filature du Pont de Fer\, 1 place de la Poste\, Lasalle\, 30460\, France
CATEGORIES:Concert collectif,conférence,Spectacle
ATTACH;FMTTYPE=image/jpeg:https://www.collectif-archytas.com/wp-content/uploads/2025/06/slide_26_aout_2025.jpg
END:VEVENT
END:VCALENDAR