BEGIN:VCALENDAR
VERSION:2.0
PRODID:-//Collectif Archytas - ECPv6.0.13.1//NONSGML v1.0//EN
CALSCALE:GREGORIAN
METHOD:PUBLISH
X-WR-CALNAME:Collectif Archytas
X-ORIGINAL-URL:https://www.collectif-archytas.com
X-WR-CALDESC:évènements pour Collectif Archytas
REFRESH-INTERVAL;VALUE=DURATION:PT1H
X-Robots-Tag:noindex
X-PUBLISHED-TTL:PT1H
BEGIN:VTIMEZONE
TZID:Europe/Paris
BEGIN:DAYLIGHT
TZOFFSETFROM:+0100
TZOFFSETTO:+0200
TZNAME:CEST
DTSTART:20250330T010000
END:DAYLIGHT
BEGIN:STANDARD
TZOFFSETFROM:+0200
TZOFFSETTO:+0100
TZNAME:CET
DTSTART:20251026T010000
END:STANDARD
END:VTIMEZONE
BEGIN:VEVENT
DTSTART;TZID=Europe/Paris:20250821T180000
DTEND;TZID=Europe/Paris:20250821T200000
DTSTAMP:20260419T212715
CREATED:20250630T140412Z
LAST-MODIFIED:20250630T140443Z
UID:1770-1755799200-1755806400@www.collectif-archytas.com
SUMMARY:Conférence • Les 2 Pierre (Pierre Schaeffer et Pierre Henry)
DESCRIPTION:“Pierre SCHAEFFER et Pierre HENRY“ par Bernard DÜRR\nDialogues entre Bernard DÜRR et Benoît VIROLE assistés par Éric DÜRR\nAu programme de la conférence-débat :\nLe personnage (complexe) de Pierre Schaeffer\, homme des Arts-Relais Cinéma\, Radio\, Télévision.\nLa Musique Concrète\, Pierre Henri la Symphonie pour Un Homme Seul\, la Messe pour le Temps Présent. La rupture.\nLe Service de la Recherche de l’ORTF\, le GRM\, les souvenirs de Bernard Dürr.\nÉchanges avec Benoît Virole sur les fondements de la musique électro-acoustique\, phénoménologie\, perception\, analyse et écriture.\nLe Trièdre Fertile composition Pierre Schaeer\, Bernard Dürr\, le récit et les incertitudes entre le concret et l’électronique\, le refus d’une écriture?\nExtraits d’oeuvres et projections video. \nBernard DÜRR : Ingénieur\, compositeur\, entre au Service de la Recherche de l’ORTF en 1970\, rejoint le Groupe de Recherche Musicale\net la classe de Musique électroacoustique de Pierre Schaeffer au conservatoire de Paris en 1972\, rejoint l’IRCAM en 1977.\nCompositions électroacoustiques\, musiques de courts métrages\, publications GRM\, participation au premier séminaire de Pierre Boulez\nau Collège de France 1977. Création du Collectif Archytas avec Frédéric Anthouard en 2018.\nhttps://www.collectif-archytas.com/ \nBenoît VIROLE : Psychologue psychanalyste\, auteur d’ouvrages sur la perception et la cognition auditive dont Psychologie de la surdité\,\nDeboeck Éditions\, troisième édition 2006 et Éloge de la pensée autiste\, Éditions scientiques Gordon Breach\, EAC\, Paris\, 2015.\nAutres ouvrages\, voir : www.benoitvirole.fr
URL:https://www.collectif-archytas.com/evenement/conference-les-2-pierre-pierre-schaeffer-et-pierre-henry/
LOCATION:La Filature du Pont de Fer\, 1 place de la Poste\, Lasalle\, 30460\, France
CATEGORIES:Concert collectif,conférence
ATTACH;FMTTYPE=image/jpeg:https://www.collectif-archytas.com/wp-content/uploads/2025/06/slide_21_aout_2025.jpg
END:VEVENT
END:VCALENDAR