BEGIN:VCALENDAR
VERSION:2.0
PRODID:-//Collectif Archytas - ECPv6.0.13.1//NONSGML v1.0//EN
CALSCALE:GREGORIAN
METHOD:PUBLISH
X-WR-CALNAME:Collectif Archytas
X-ORIGINAL-URL:https://www.collectif-archytas.com
X-WR-CALDESC:évènements pour Collectif Archytas
REFRESH-INTERVAL;VALUE=DURATION:PT1H
X-Robots-Tag:noindex
X-PUBLISHED-TTL:PT1H
BEGIN:VTIMEZONE
TZID:Europe/Paris
BEGIN:DAYLIGHT
TZOFFSETFROM:+0100
TZOFFSETTO:+0200
TZNAME:CEST
DTSTART:20240331T010000
END:DAYLIGHT
BEGIN:STANDARD
TZOFFSETFROM:+0200
TZOFFSETTO:+0100
TZNAME:CET
DTSTART:20241027T010000
END:STANDARD
END:VTIMEZONE
BEGIN:VEVENT
DTSTART;TZID=Europe/Paris:20240726T203000
DTEND;TZID=Europe/Paris:20240726T220000
DTSTAMP:20260422T012356
CREATED:20240627T091558Z
LAST-MODIFIED:20240723T160529Z
UID:1683-1722025800-1722031200@www.collectif-archytas.com
SUMMARY:Dystoπ • Concert Frédéric Anthouard
DESCRIPTION:Concert de musique contemporaine • 20h30 Temple de Peyrolles\nPrésentation du nouveau disque Dystopie\, édité sur le label Lalouche Records\nComposition : Frédéric Anthouard\nMastering et maquette : Manuel Ballesta \n1e partie : Fragments de rêves\nComme pour les personnes qui tiennent un journal de rêves\, j’ai procédé de même non avec les mots mais avec les impressions sonores. Chaque jour je fabriquais une banque de sons correspondants à mes impressions de la nuit. Après cette collecte\, vint le travail de mise en forme. La partie 1 est basée sur les rêves et cauchemars « récurrents »\, la partie 2 sur mes impressions musicales oniriques. \n2e partie : Distoπ\nMa vision du monde actuel.\nUn travail sur l’accumulation de distorsions sur guitare électrique. \n3e partie : Hommage à Soulages\nPièce écrite juste après la mort du peintre. La partie 1 représente le travail dans l’atelier\, la partie 2 l’œuvre (en particulier les peintures de 1979 à sa mort). \n  \nParticipation libre\, 10 € souhaités.
URL:https://www.collectif-archytas.com/evenement/dysto%cf%80/
LOCATION:Espace MUMIX\, Peyrolles\, 30124\, France
CATEGORIES:Concert collectif,Mumix
ATTACH;FMTTYPE=image/jpeg:https://www.collectif-archytas.com/wp-content/uploads/2024/06/Visu_dystopie.jpg
END:VEVENT
END:VCALENDAR